BEGIN:VCALENDAR
VERSION:2.0
PRODID:-//hacksw/handcal//NONSGML v1.0//EN
BEGIN:VEVENT
SUMMARY:sortie du mercredi matin
UID:66569c20-29a8-441c-813b-27e18949c3f4
DTSTART:20260527T063000Z
DTEND:20260527T093000Z
LOCATION:Localisation   
CATEGORIES:Sportif
STATUS:
DESCRIPTION:<p><strong>ATTENTION a partir de mai les <span
 style="color:#cc0000;">sortie du mercredi</span> ont lieu le
 matin</strong></p>
 
 <p><strong>rdv au local <span
 style="color:#cc0000;"><span style="font-size:16px;">a
 8h30</span></span> - parcours libre choix au depart </strong></p>
URL;VALUE=URI:https://cyclos-gourinois.sportsregions.fr/evenements/2026/05/27/sortie-du-mercredi-matin-2443392
END:VEVENT
END:VCALENDAR
