BEGIN:VCALENDAR
VERSION:2.0
PRODID:-//hacksw/handcal//NONSGML v1.0//EN
BEGIN:VEVENT
SUMMARY:Sortie du Mercredi
UID:de0f92c3-5b26-4a73-970e-5755d488cd09
DTSTART:20260422T114500Z
DTEND:20260422T141500Z
LOCATION:Localisation   
CATEGORIES:Sportif
STATUS:
DESCRIPTION:<p><span style="font-size:14px;"><strong>rdv au local a
 13h45 - parcours libre choix au depart </strong></span></p>
URL;VALUE=URI:https://cyclos-gourinois.sportsregions.fr/evenements/2026/04/22/sortie-du-mercredi-2432805
END:VEVENT
END:VCALENDAR
