BEGIN:VCALENDAR
VERSION:2.0
PRODID:-//hacksw/handcal//NONSGML v1.0//EN
BEGIN:VEVENT
SUMMARY:Sortie du Mercredi
UID:cd6f28f2-1f27-4ed3-b03d-f20c867bae8c
DTSTART:20260415T114500Z
DTEND:20260415T141500Z
LOCATION:Localisation   
CATEGORIES:Sportif
STATUS:
DESCRIPTION:<p><span style="font-size:14px;"><strong>rdv au local a
 13h45 - parcours libre choix au depart </strong></span></p>
URL;VALUE=URI:https://cyclos-gourinois.sportsregions.fr/evenements/2026/04/15/sortie-du-mercredi-2432806
END:VEVENT
END:VCALENDAR
