BEGIN:VCALENDAR
VERSION:2.0
PRODID:-//hacksw/handcal//NONSGML v1.0//EN
BEGIN:VEVENT
SUMMARY:Sortie du Mercredi
UID:bf354ae9-ba11-4aaf-a112-81ec23462b86
DTSTART:20260408T114500Z
DTEND:20260408T141500Z
LOCATION:Localisation   
CATEGORIES:Sportif
STATUS:
DESCRIPTION:<p><span style="font-size:14px;"><strong>rdv au local a
 13h45 - parcours libre choix au depart </strong></span></p>
URL;VALUE=URI:https://cyclos-gourinois.sportsregions.fr/evenements/2026/04/08/sortie-du-mercredi-2432803
END:VEVENT
END:VCALENDAR
