BEGIN:VCALENDAR
VERSION:2.0
PRODID:-//hacksw/handcal//NONSGML v1.0//EN
BEGIN:VEVENT
SUMMARY:Sortie dimanche 29 mars - Brevets FAOUET
UID:93074baf-8856-4eee-aa00-3f45856712e6
DTSTART:20260329T060000Z
DTEND:20260329T093000Z
LOCATION:Localisation   
CATEGORIES:Sportif
STATUS:
DESCRIPTION:<p><strong><span style="font-size:16px;">Aujourd'hui
 dimanche 29 Mars, c'est jour de sortie Interclubs au Faouet
 </span></strong></p>
 
 <p><strong><span style="font-size:16px;">pour
 les brevets <span style="color:#ff0000;">102</span>
 </span></strong><span style="font-size:16px;">et</span><strong><span
 style="font-size:16px;"> <span style="color:#0000ff;">88</span><span
 style="color:#2980b9;"> </span>km <span style="color:#ff0000;">rdv
 salle de Fetes au Faouet pour depart groupe a 8h
 !! </span></span></strong></p>
 
 <p><span
 style="color:#ff0000;"><strong><span style="font-size:16px;">     
             </span></strong></span><span
 style="color:#990033;"><strong><span
 style="font-size:16px;"> ''attention on passe a l'heure d'ete dans
 la nuit '' </span></strong></span></p>
 
 <p><span
 style="color:#006600;"><strong><span style="font-size:16px;">un PLAN
 B pour les cyclos promeneurs Gourinois ; rdv au local GOURIN a 8h30
 pour faire le parcours de 70 km (qui passe par Gourin) via le
 Faouet</span></strong></span></p>
URL;VALUE=URI:https://cyclos-gourinois.sportsregions.fr/evenements/2026/03/29/sortie-dimanche-29-mars-brevets-faouet-2431688
END:VEVENT
END:VCALENDAR
